BEGIN:VCALENDAR
VERSION:2.0
PRODID:-//pretix//pretix.eu//
BEGIN:VTIMEZONE
TZID:Europe/Berlin
BEGIN:STANDARD
DTSTART:20001029T040000
RRULE:FREQ=YEARLY;BYDAY=-1SU;BYMONTH=10
TZNAME:CET
TZOFFSETFROM:+0200
TZOFFSETTO:+0100
END:STANDARD
BEGIN:DAYLIGHT
DTSTART:20000326T030000
RRULE:FREQ=YEARLY;BYDAY=-1SU;BYMONTH=3
TZNAME:CEST
TZOFFSETFROM:+0100
TZOFFSETTO:+0200
END:DAYLIGHT
END:VTIMEZONE
BEGIN:VEVENT
UID:pretix-ksb-viersen-fu-schnuppertraining-3335406@ksb-viersen.vereinstick
 et.de
DTSTART;TZID=Europe/Berlin:20220607T160000
DTEND;TZID=Europe/Berlin:20220607T170000
DESCRIPTION:Tickets: https://ksb-viersen.vereinsticket.de/fu-schnuppertrain
 ing/3335406/\nVeranstalter: Kreissportbund Viersen e.V.
DTSTAMP:20260419T152954Z
LOCATION:Volksbank Sportpark\, Am Kamp 23\, 41372 Niederkrüchten
SUMMARY:Schnuppertraining beim SC Niederkrüchten / Fußball
END:VEVENT
END:VCALENDAR
