BEGIN:VCALENDAR
VERSION:2.0
PRODID:-//pretix//pretix.eu//
BEGIN:VTIMEZONE
TZID:Europe/Berlin
BEGIN:STANDARD
DTSTART:20001029T040000
RRULE:FREQ=YEARLY;BYDAY=-1SU;BYMONTH=10
TZNAME:CET
TZOFFSETFROM:+0200
TZOFFSETTO:+0100
END:STANDARD
BEGIN:DAYLIGHT
DTSTART:20000326T030000
RRULE:FREQ=YEARLY;BYDAY=-1SU;BYMONTH=3
TZNAME:CEST
TZOFFSETFROM:+0100
TZOFFSETTO:+0200
END:DAYLIGHT
END:VTIMEZONE
BEGIN:VEVENT
UID:pretix-ksb-viersen-vt-allergiepraevention-2731305@ksb-viersen.vereinsti
 cket.de
DTSTART;TZID=Europe/Berlin:20220504T093000
DTEND;TZID=Europe/Berlin:20220504T103000
DESCRIPTION:Tickets: https://ksb-viersen.vereinsticket.de/vt-allergiepraeve
 ntion/2731305/\nVeranstalter: Kreissportbund Viersen e.V.
DTSTAMP:20260419T173117Z
LOCATION:Familienzentrum „Drei-Käse-Hoch“\, Brucknerstr. 16\, 47918 T
 önisvorst-Vorst\, Insgesamt 1 Termin\, Termindauer: 1 Stunde
SUMMARY:Allergieprävention (Tönisvorst) Kurs A5
END:VEVENT
END:VCALENDAR
