BEGIN:VCALENDAR
VERSION:2.0
PRODID:-//pretix//pretix.eu//
BEGIN:VTIMEZONE
TZID:Europe/Berlin
BEGIN:STANDARD
DTSTART:20001029T040000
RRULE:FREQ=YEARLY;BYDAY=-1SU;BYMONTH=10
TZNAME:CET
TZOFFSETFROM:+0200
TZOFFSETTO:+0100
END:STANDARD
BEGIN:DAYLIGHT
DTSTART:20000326T030000
RRULE:FREQ=YEARLY;BYDAY=-1SU;BYMONTH=3
TZNAME:CEST
TZOFFSETFROM:+0100
TZOFFSETTO:+0200
END:DAYLIGHT
END:VTIMEZONE
BEGIN:VEVENT
UID:pretix-ksb-viersen-vt-ernaehrungsgesundheit-2731264@ksb-viersen.vereins
 ticket.de
DTSTART;TZID=Europe/Berlin:20220317T100000
DTEND;TZID=Europe/Berlin:20220317T120000
DESCRIPTION:Tickets: https://ksb-viersen.vereinsticket.de/vt-ernaehrungsges
 undheit/2731264/\nVeranstalter: Kreissportbund Viersen e.V.
DTSTAMP:20260419T214035Z
LOCATION:Familienzentrum „Drei-Käse-Hoch“\, Brucknerstr. 16\,\, 47918 
 Tönisvorst-Vorst\, Insgesamt 1 Termin\, Termindauer: 2 Stunden
SUMMARY:Ernährung (Tönisvorst) Kurs E10.1
END:VEVENT
END:VCALENDAR
