BEGIN:VCALENDAR
VERSION:2.0
PRODID:-//pretix//pretix.eu//
BEGIN:VTIMEZONE
TZID:Europe/Berlin
BEGIN:STANDARD
DTSTART:20001029T040000
RRULE:FREQ=YEARLY;BYDAY=-1SU;BYMONTH=10
TZNAME:CET
TZOFFSETFROM:+0200
TZOFFSETTO:+0100
END:STANDARD
BEGIN:DAYLIGHT
DTSTART:20000326T030000
RRULE:FREQ=YEARLY;BYDAY=-1SU;BYMONTH=3
TZNAME:CEST
TZOFFSETFROM:+0100
TZOFFSETTO:+0200
END:DAYLIGHT
END:VTIMEZONE
BEGIN:VEVENT
UID:pretix-ksb-viersen-vt-erste-hilfe-unf-pr-2731312@ksb-viersen.vereinstic
 ket.de
DTSTART;TZID=Europe/Berlin:20220308T180000
DTEND;TZID=Europe/Berlin:20220308T203000
DESCRIPTION:Tickets: https://ksb-viersen.vereinsticket.de/vt-erste-hilfe-un
 f-pr/2731312/\nVeranstalter: Kreissportbund Viersen e.V.
DTSTAMP:20260419T210147Z
LOCATION:Familienzentrum „Nottbäumchen“\, Lüttelforster Weg 40\, 4136
 6 Schwalmtal\, Bitte um Beachtung: Bei dem Termin am 08.03.2022 im Familie
 nzentrum "Nottbäumchen" gilt die 2G+-Regel!\, Insgesamt 1 Termin\, Termin
 dauer: 2\,5 Stunden
SUMMARY:Erste Hilfe (Schwalmtal) Kurs EH3.1
END:VEVENT
END:VCALENDAR
