BEGIN:VCALENDAR
VERSION:2.0
PRODID:-//pretix//pretix.eu//
BEGIN:VTIMEZONE
TZID:Europe/Berlin
BEGIN:STANDARD
DTSTART:20001029T040000
RRULE:FREQ=YEARLY;BYDAY=-1SU;BYMONTH=10
TZNAME:CET
TZOFFSETFROM:+0200
TZOFFSETTO:+0100
END:STANDARD
BEGIN:DAYLIGHT
DTSTART:20000326T030000
RRULE:FREQ=YEARLY;BYDAY=-1SU;BYMONTH=3
TZNAME:CEST
TZOFFSETFROM:+0100
TZOFFSETTO:+0200
END:DAYLIGHT
END:VTIMEZONE
BEGIN:VEVENT
UID:pretix-ksb-viersen-vt-erste-hilfe-unf-pr-2731319@ksb-viersen.vereinstic
 ket.de
DTSTART;TZID=Europe/Berlin:20220509T180000
DTEND;TZID=Europe/Berlin:20220509T203000
DESCRIPTION:Tickets: https://ksb-viersen.vereinsticket.de/vt-erste-hilfe-un
 f-pr/2731319/\nVeranstalter: Kreissportbund Viersen e.V.
DTSTAMP:20260419T173351Z
LOCATION:Familienzentrum „Drei-Käse-Hoch“\, Brucknerstr. 16\, 47918 T
 önisvorst-Vorst\, Insgesamt 1 Termin\, Termindauer: 2\,5 Stunden
SUMMARY:Erste Hilfe (Tönisvorst) Kurs EH5.2
END:VEVENT
END:VCALENDAR
