BEGIN:VCALENDAR
VERSION:2.0
PRODID:-//pretix//pretix.eu//
BEGIN:VTIMEZONE
TZID:Europe/Berlin
BEGIN:STANDARD
DTSTART:20001029T040000
RRULE:FREQ=YEARLY;BYDAY=-1SU;BYMONTH=10
TZNAME:CET
TZOFFSETFROM:+0200
TZOFFSETTO:+0100
END:STANDARD
BEGIN:DAYLIGHT
DTSTART:20000326T030000
RRULE:FREQ=YEARLY;BYDAY=-1SU;BYMONTH=3
TZNAME:CEST
TZOFFSETFROM:+0100
TZOFFSETTO:+0200
END:DAYLIGHT
END:VTIMEZONE
BEGIN:VEVENT
UID:pretix-ksb-viersen-vt-kursekreisviersen2022-2730925@ksb-viersen.vereins
 ticket.de
DTSTART;TZID=Europe/Berlin:20220308T100000
DTEND;TZID=Europe/Berlin:20220329T110000
DESCRIPTION:Tickets: https://ksb-viersen.vereinsticket.de/vt-kursekreisvier
 sen2022/2730925/\nVeranstalter: Kreissportbund Viersen e.V.
DTSTAMP:20260419T211030Z
LOCATION:KiTa St. Mariä Himmelfahrt\, Südwall 16\, 41379 Brüggen-Bracht\
 , Insgesamt 4 Termine - Letzter Termin am 29.03.2022\, Termindauer: 1 Stun
 de
SUMMARY:Bewegung (Brüggen) Kurs B2.2
END:VEVENT
END:VCALENDAR
