BEGIN:VCALENDAR
VERSION:2.0
PRODID:-//pretix//pretix.eu//
BEGIN:VTIMEZONE
TZID:Europe/Berlin
BEGIN:STANDARD
DTSTART:20001029T040000
RRULE:FREQ=YEARLY;BYDAY=-1SU;BYMONTH=10
TZNAME:CET
TZOFFSETFROM:+0200
TZOFFSETTO:+0100
END:STANDARD
BEGIN:DAYLIGHT
DTSTART:20000326T030000
RRULE:FREQ=YEARLY;BYDAY=-1SU;BYMONTH=3
TZNAME:CEST
TZOFFSETFROM:+0100
TZOFFSETTO:+0200
END:DAYLIGHT
END:VTIMEZONE
BEGIN:VEVENT
UID:pretix-ksb-viersen-vt-kursekreisviersen2022-2730931@ksb-viersen.vereins
 ticket.de
DTSTART;TZID=Europe/Berlin:20220425T140000
DTEND;TZID=Europe/Berlin:20220620T150000
DESCRIPTION:Tickets: https://ksb-viersen.vereinsticket.de/vt-kursekreisvier
 sen2022/2730931/\nVeranstalter: Kreissportbund Viersen e.V.
DTSTAMP:20260419T140506Z
LOCATION:Integrative BewegungsKiTa „Hoverland“\, Hoferland 23a\, 41366 
 Schwalmtal\, Insgesamt 8 Termine - Letzter Termin am 20.06.2022\, Terminda
 uer: 1 Stunde
SUMMARY:Bewegung (Schwalmtal) Kurs B4.2
END:VEVENT
END:VCALENDAR
