BEGIN:VCALENDAR
VERSION:2.0
PRODID:-//pretix//pretix.eu//
BEGIN:VTIMEZONE
TZID:Europe/Berlin
BEGIN:STANDARD
DTSTART:20001029T040000
RRULE:FREQ=YEARLY;BYDAY=-1SU;BYMONTH=10
TZNAME:CET
TZOFFSETFROM:+0200
TZOFFSETTO:+0100
END:STANDARD
BEGIN:DAYLIGHT
DTSTART:20000326T030000
RRULE:FREQ=YEARLY;BYDAY=-1SU;BYMONTH=3
TZNAME:CEST
TZOFFSETFROM:+0100
TZOFFSETTO:+0200
END:DAYLIGHT
END:VTIMEZONE
BEGIN:VEVENT
UID:pretix-ksb-viersen-vt-kursekreisviersen2022-2730932@ksb-viersen.vereins
 ticket.de
DTSTART;TZID=Europe/Berlin:20220122T100000
DTEND;TZID=Europe/Berlin:20220402T110000
DESCRIPTION:Tickets: https://ksb-viersen.vereinsticket.de/vt-kursekreisvier
 sen2022/2730932/\nVeranstalter: Kreissportbund Viersen e.V.
DTSTAMP:20260419T194102Z
LOCATION:DRK KiTa Grefrath-Oedt\, Am Schwarzen Graben 3\, 47929 Grefrath\, 
 Insgesamt 10 Termine - Letzter Termin am 02.04.2022\, Termindauer: 1 Stund
 e
SUMMARY:Bewegung (Grefrath) Kurs B5.1
END:VEVENT
END:VCALENDAR
