BEGIN:VCALENDAR
VERSION:2.0
PRODID:-//pretix//pretix.eu//
BEGIN:VTIMEZONE
TZID:Europe/Berlin
BEGIN:STANDARD
DTSTART:20001029T040000
RRULE:FREQ=YEARLY;BYDAY=-1SU;BYMONTH=10
TZNAME:CET
TZOFFSETFROM:+0200
TZOFFSETTO:+0100
END:STANDARD
BEGIN:DAYLIGHT
DTSTART:20000326T030000
RRULE:FREQ=YEARLY;BYDAY=-1SU;BYMONTH=3
TZNAME:CEST
TZOFFSETFROM:+0100
TZOFFSETTO:+0200
END:DAYLIGHT
END:VTIMEZONE
BEGIN:VEVENT
UID:pretix-ksb-viersen-vt-kursekreisviersen2022-2730935@ksb-viersen.vereins
 ticket.de
DTSTART;TZID=Europe/Berlin:20220121T093000
DTEND;TZID=Europe/Berlin:20220401T103000
DESCRIPTION:Tickets: https://ksb-viersen.vereinsticket.de/vt-kursekreisvier
 sen2022/2730935/\nVeranstalter: Kreissportbund Viersen e.V.
DTSTAMP:20260419T211030Z
LOCATION:Standortänderung für den 1. Termin am 21.01.2022:\, Kita Mullewa
 pp\, Feldstraße 2a\, 47918 Tönisvorst\, Genereller Standort:\, „Verein
 shalle der Turnerschaft St. Tönis“\, Corneliusstr. 25c\, 47918 Tönisvo
 rst\, Insgesamt 10 Termine - Letzter Termin am 01.04.2022\, Termindauer: 1
  Stunde
SUMMARY:Bewegung (Tönisvorst) Kurs B6.1
END:VEVENT
END:VCALENDAR
