BEGIN:VCALENDAR
VERSION:2.0
PRODID:-//pretix//pretix.eu//
BEGIN:VTIMEZONE
TZID:Europe/Berlin
BEGIN:STANDARD
DTSTART:20001029T040000
RRULE:FREQ=YEARLY;BYDAY=-1SU;BYMONTH=10
TZNAME:CET
TZOFFSETFROM:+0200
TZOFFSETTO:+0100
END:STANDARD
BEGIN:DAYLIGHT
DTSTART:20000326T030000
RRULE:FREQ=YEARLY;BYDAY=-1SU;BYMONTH=3
TZNAME:CEST
TZOFFSETFROM:+0100
TZOFFSETTO:+0200
END:DAYLIGHT
END:VTIMEZONE
BEGIN:VEVENT
UID:pretix-ksb-viersen-vt-kursekreisviersen2022-3264243@ksb-viersen.vereins
 ticket.de
DTSTART;TZID=Europe/Berlin:20220503T103000
DTEND;TZID=Europe/Berlin:20220531T113000
DESCRIPTION:Tickets: https://ksb-viersen.vereinsticket.de/vt-kursekreisvier
 sen2022/3264243/\nVeranstalter: Kreissportbund Viersen e.V.
DTSTAMP:20260419T173600Z
LOCATION:Kinder- und Jugendzentrum "Treff 13"\, Lehmkul 13\, 41372 Niederkr
 üchten
SUMMARY:Bewegung (Niederkrüchten) Kurs B3.3
END:VEVENT
END:VCALENDAR
